BEGIN:VCALENDAR
METHOD:PUBLISH
PRODID:-//LogicWorks GmbH//NONSGML Contentory//EN
VERSION:2.0
BEGIN:VEVENT
DTSTAMP:20260423T071453Z
SUMMARY:Abschlussveranstaltung zum Projekt Windheizung 2.0: DEMO
DESCRIPTION:Im Winter entsteht durch Starkwind oft Überschussstrom\, teils mit negati
 ven Preisen\, während Windanlagen abgeregelt werden. Gebäude können mit
  ihren thermischen Massen als Langzeitspeicher dienen und diesen Strom eff
 izient in Wärme umwandeln.
LOCATION:Wyndham Garden Berlin Mitte
CREATED:20260422T094853
LAST-MODIFIED:20260422T142423
DTSTART;VALUE=DATE:20260508T090000
DTEND;VALUE=DATE:20260508T120000
UID:sn_1354@logic-works.net
END:VEVENT
END:VCALENDAR