BEGIN:VCALENDAR
METHOD:PUBLISH
PRODID:-//LogicWorks GmbH//NONSGML Contentory//EN
VERSION:2.0
BEGIN:VEVENT
DTSTAMP:20260421T070637Z
SUMMARY:Bioenergie Talk: Elektrochemische Wasserstoffaufreinigung und -verdichtun
 g aus Biogas
DESCRIPTION:Beim Bioenergie Talk präsentieren Forschende jeden Monat ein ausgewählte
 s Forschungsprojekt der energetischen Biomassenutzung . Im Anschluss ist Z
 eit für Diskussionen mit den Teilnehmenden. Organisiert wird die einstün
 dige Online-Reihe vom Deutschen Biomasseforschungszentrum.
LOCATION:digital
CREATED:20250305T093432
LAST-MODIFIED:20250305T093432
DTSTART;VALUE=DATE:20250320T100000
DTEND;VALUE=DATE:20250320T110000
UID:sn_830@logic-works.net
END:VEVENT
END:VCALENDAR