BEGIN:VCALENDAR
METHOD:PUBLISH
PRODID:-//LogicWorks GmbH//NONSGML Contentory//EN
VERSION:2.0
BEGIN:VEVENT
DTSTAMP:20260424T124530Z
SUMMARY:EWB-Workshop - Fernwärme sicher\, digital und optimal
DESCRIPTION:Der Workshop widmet sich aktuellen Herausforderungen und Lösungsansätzen
  für die erfolgreiche Dekarbonisierung von Fernwärmenetzen. Im Fokus ste
 hen Strategien zur Betriebsoptimierung\, neue Konzepte im Asset Management
  sowie Ansätze für eine sichere digitale Transformation. 
LOCATION:Gaszählerwerkstatt der Stadtwerke München
CREATED:20260420T123645
LAST-MODIFIED:20260420T141605
DTSTART;VALUE=DATE:20260507T093000
DTEND;VALUE=DATE:20260507T154500
UID:sn_1346@logic-works.net
END:VEVENT
END:VCALENDAR