BEGIN:VCALENDAR
METHOD:PUBLISH
PRODID:-//LogicWorks GmbH//NONSGML Contentory//EN
VERSION:2.0
BEGIN:VEVENT
DTSTAMP:20260425T123933Z
SUMMARY:SW.aktiv: Investitionen in die Energiewende – Praxisbeispiele und neue F
 inanzierungswege
DESCRIPTION:Die Veranstaltungsreihe SW.aktiv bietet regelmäßig Veranstaltungen zu Th
 emen wie Klimaneutraler Wärme\, Wasserstoff\, Integrale Quartiersprojekte
 \, Digitalisierung\, Kommunale Wärmeplanung und Infrastruktur sowie versc
 hiedener Arten von alternativen Wärmequellen an.
LOCATION:digital
CREATED:20210325T160218
LAST-MODIFIED:20260317T103640
DTSTART;VALUE=DATE:20260414T150000
DTEND;VALUE=DATE:20260414T170000
UID:sn_366@logic-works.net
END:VEVENT
END:VCALENDAR