BEGIN:VCALENDAR
METHOD:PUBLISH
PRODID:-//LogicWorks GmbH//NONSGML Contentory//EN
VERSION:2.0
BEGIN:VEVENT
DTSTAMP:20260422T125922Z
SUMMARY:Workshop: Umsetzung der Semizentralen Lüftung in Nicht-Wohngebäuden
DESCRIPTION:Am Mittwoch\, den 21. Mai 2025\, findet von 10:00 bis 12:00 Uhr ein Worksh
 op zur semizentralen Lüftung als „Vorprogramm“ zum TGA-Kongress 2025 
 in Berlin statt. Es werden Praxiserkenntnisse aus der Umsetzung der semize
 ntralen Lüftung vorgestellt und mit den Teilnehmenden diskutiert.
LOCATION:WISTA Veranstaltungszentrum Berlin
CREATED:20250414T125905
LAST-MODIFIED:20250414T151016
DTSTART;VALUE=DATE:20250521T100000
DTEND;VALUE=DATE:20250521T120000
UID:sn_856@logic-works.net
END:VEVENT
END:VCALENDAR